BEGIN:VCALENDAR
VERSION:2.0
PRODID:-//Squarespace Inc/Squarespace 6//v6//EN
BEGIN:VEVENT
UID:5a120a648165f561f5491251@squarespace.com
DTSTAMP:20171119T224923Z
DTSTART:20171208T061500Z
DTEND:20171208T071500Z
SUMMARY:The People's Republic of Improv Family Christmas Special (Show)
END:VEVENT
END:VCALENDAR
