BEGIN:VCALENDAR
VERSION:2.0
PRODID:-//Squarespace Inc/Squarespace 6//v6//EN
BEGIN:VEVENT
UID:5a03cb1c9140b7b5a2943f32@squarespace.com
DTSTAMP:20171109T032735Z
DTSTART:20180120T054500Z
DTEND:20180120T064500Z
SUMMARY:Five Fun Facts About Finland
END:VEVENT
END:VCALENDAR
