BEGIN:VCALENDAR
VERSION:2.0
PRODID:-//Squarespace Inc/Squarespace 6//v6//EN
BEGIN:VEVENT
UID:5a03c9ec24a694f72198353d@squarespace.com
DTSTAMP:20171109T032724Z
DTSTART:20180119T054500Z
DTEND:20180119T064500Z
SUMMARY:Five Fun Facts About Finland
END:VEVENT
END:VCALENDAR
