BEGIN:VCALENDAR
VERSION:2.0
PRODID:-//Squarespace Inc/Squarespace 6//v6//EN
BEGIN:VEVENT
UID:5a1aa105c83025aa865ac5d9@squarespace.com
DTSTAMP:20171126T214456Z
DTSTART:20171216T081500Z
DTEND:20171216T091500Z
SUMMARY:The Dream Team (A Special "Lantern Celebration" Performance!)
END:VEVENT
END:VCALENDAR
