BEGIN:VCALENDAR
VERSION:2.0
PRODID:-//Squarespace Inc/Squarespace 6//v6//EN
BEGIN:VEVENT
UID:5a1aa03ac83025aa865ab921@squarespace.com
DTSTAMP:20171126T110957Z
DTSTART:20171215T054500Z
DTEND:20171215T064500Z
SUMMARY:The Dream Team
END:VEVENT
END:VCALENDAR
