BEGIN:VCALENDAR
VERSION:2.0
PRODID:-//Squarespace Inc/Squarespace 6//v6//EN
BEGIN:VEVENT
UID:5a2de84cc83025c41d0a3438@squarespace.com
DTSTAMP:20171211T020849Z
DTSTART:20171222T064500Z
DTEND:20171222T084500Z
SUMMARY:Old School Movie Night: WHITE CHRISTMAS
END:VEVENT
END:VCALENDAR
