BEGIN:VCALENDAR
VERSION:2.0
PRODID:-//Squarespace Inc/Squarespace 6//v6//EN
BEGIN:VEVENT
UID:5a11f8639140b7281e243114@squarespace.com
DTSTAMP:20171208T032111Z
DTSTART:20171216T201500Z
DTEND:20171217T021500Z
SUMMARY:Dream Big Workshop with Clare Wilson
END:VEVENT
END:VCALENDAR
