BEGIN:VCALENDAR
VERSION:2.0
PRODID:-//Squarespace Inc/Squarespace 6//v6//EN
BEGIN:VEVENT
UID:5a529add419202e324465a94@squarespace.com
DTSTAMP:20180107T234347Z
DTSTART:20180126T061500Z
DTEND:20180126T071500Z
SUMMARY:Just the Two of Us
END:VEVENT
END:VCALENDAR
