BEGIN:VCALENDAR
VERSION:2.0
PRODID:-//Squarespace Inc/Squarespace 6//v6//EN
BEGIN:VEVENT
UID:5a5298c08165f5deaa8115fb@squarespace.com
DTSTAMP:20180107T221037Z
DTSTART:20180112T061500Z
DTEND:20180112T071500Z
SUMMARY:Just the Two of Us
END:VEVENT
END:VCALENDAR
