BEGIN:VCALENDAR
VERSION:2.0
PRODID:-//Squarespace Inc/Squarespace 6//v6//EN
BEGIN:VEVENT
UID:5a17414dec212d9bd38f8da8@squarespace.com
DTSTAMP:20171123T214609Z
DTSTART:20180113T041500Z
DTEND:20180113T071500Z
SUMMARY:Word on the Street
END:VEVENT
END:VCALENDAR
