BEGIN:VCALENDAR
VERSION:2.0
PRODID:-//Squarespace Inc/Squarespace 6//v6//EN
BEGIN:VEVENT
UID:59ffbdc0e2c483f6d06686be@squarespace.com
DTSTAMP:20171106T014136Z
DTSTART:20180116T234500Z
DTEND:20180117T004500Z
SUMMARY:Heron's Feather
END:VEVENT
END:VCALENDAR
