BEGIN:VCALENDAR
VERSION:2.0
PRODID:-//Squarespace Inc/Squarespace 6//v6//EN
BEGIN:VEVENT
UID:59ffbd5e0d929758ea225e40@squarespace.com
DTSTAMP:20171106T014120Z
DTSTART:20180116T204500Z
DTEND:20180116T214500Z
SUMMARY:Heron's Feather
END:VEVENT
END:VCALENDAR
