BEGIN:VCALENDAR
VERSION:2.0
PRODID:-//Squarespace Inc/Squarespace 6//v6//EN
BEGIN:VEVENT
UID:5a1742f5c83025aa86f75d6a@squarespace.com
DTSTAMP:20171123T215200Z
DTSTART:20180105T054500Z
DTEND:20180105T064500Z
SUMMARY:Gary Starlight Sings the Blues
END:VEVENT
END:VCALENDAR
