BEGIN:VCALENDAR
VERSION:2.0
PRODID:-//Squarespace Inc/Squarespace 6//v6//EN
BEGIN:VEVENT
UID:5a1741f40d92971bbc806ab7@squarespace.com
DTSTAMP:20171123T215149Z
DTSTART:20180104T054500Z
DTEND:20180104T064500Z
SUMMARY:Gary Starlight Sings the Blues
END:VEVENT
END:VCALENDAR
