BEGIN:VCALENDAR
VERSION:2.0
PRODID:-//Squarespace Inc/Squarespace 6//v6//EN
BEGIN:VEVENT
UID:5a52ba18ec212d62e3096efc@squarespace.com
DTSTAMP:20180108T002920Z
DTSTART:20180210T061500Z
DTEND:20180210T081500Z
SUMMARY:The Nelson Pun Battle Championship
END:VEVENT
END:VCALENDAR
