BEGIN:VCALENDAR
VERSION:2.0
PRODID:-//Squarespace Inc/Squarespace 6//v6//EN
BEGIN:VEVENT
UID:5a52b659e2c483af0b134ba0@squarespace.com
DTSTAMP:20180108T000804Z
DTSTART:20180203T061500Z
DTEND:20180203T071500Z
SUMMARY:Mime\, Magic\, Comedy and Chaos
END:VEVENT
END:VCALENDAR
