BEGIN:VCALENDAR
VERSION:2.0
PRODID:-//Squarespace Inc/Squarespace 6//v6//EN
BEGIN:VEVENT
UID:5a52b565e2c483af0b1321b9@squarespace.com
DTSTAMP:20180108T000753Z
DTSTART:20180202T061500Z
DTEND:20180202T071500Z
SUMMARY:Mime\, Magic\, Comedy and Chaos
END:VEVENT
END:VCALENDAR
