BEGIN:VCALENDAR
VERSION:2.0
PRODID:-//Squarespace Inc/Squarespace 6//v6//EN
BEGIN:VEVENT
UID:5a52b83024a694bca857f4d2@squarespace.com
DTSTAMP:20180108T003035Z
DTSTART:20180208T054500Z
DTEND:20180208T074500Z
SUMMARY:Naked Girls Reading
END:VEVENT
END:VCALENDAR
