BEGIN:VCALENDAR
VERSION:2.0
PRODID:-//Squarespace Inc/Squarespace 6//v6//EN
BEGIN:VEVENT
UID:59ffbb954192021a544350fd@squarespace.com
DTSTAMP:20171107T083558Z
DTSTART:20180325T051500Z
DTEND:20180325T061500Z
SUMMARY:Medea\, the Mother
END:VEVENT
END:VCALENDAR
