BEGIN:VCALENDAR
VERSION:2.0
PRODID:-//Squarespace Inc/Squarespace 6//v6//EN
BEGIN:VEVENT
UID:59ffbaea0d929758ea2213f1@squarespace.com
DTSTAMP:20171107T083517Z
DTSTART:20180324T051500Z
DTEND:20180324T061500Z
SUMMARY:Medea\, the Mother
END:VEVENT
END:VCALENDAR
