BEGIN:VCALENDAR
VERSION:2.0
PRODID:-//Squarespace Inc/Squarespace 6//v6//EN
BEGIN:VEVENT
UID:59ffbba9e2c483f6d066481e@squarespace.com
DTSTAMP:20171107T083440Z
DTSTART:20180323T051500Z
DTEND:20180323T061500Z
SUMMARY:Medea\, the Mother
END:VEVENT
END:VCALENDAR
