BEGIN:VCALENDAR
VERSION:2.0
PRODID:-//Squarespace Inc/Squarespace 6//v6//EN
BEGIN:VEVENT
UID:59ffba0664265f6a40378dc5@squarespace.com
DTSTAMP:20171107T083405Z
DTSTART:20180322T051500Z
DTEND:20180322T061500Z
SUMMARY:Medea\, the Mother
END:VEVENT
END:VCALENDAR
