BEGIN:VCALENDAR
VERSION:2.0
PRODID:-//Squarespace Inc/Squarespace 6//v6//EN
BEGIN:VEVENT
UID:59f16cbeccc5c5bd4037f887@squarespace.com
DTSTAMP:20171107T083641Z
DTSTART:20180303T054500Z
DTEND:20180303T064500Z
SUMMARY:Medea\, the Mother - World Premiere Special Preview
END:VEVENT
END:VCALENDAR
