BEGIN:VCALENDAR
VERSION:2.0
PRODID:-//Squarespace Inc/Squarespace 6//v6//EN
BEGIN:VEVENT
UID:5a2a058cc830253b0c3601be@squarespace.com
DTSTAMP:20171208T032902Z
DTSTART:20180427T043000Z
DTEND:20180506T053000Z
SUMMARY:Nelson Fringe Festival
END:VEVENT
END:VCALENDAR
